BEGIN:VCALENDAR
VERSION:2.0
PRODID:-//Edward J. Bloustein School of Planning &amp; Public Policy - ECPv6.14.2//NONSGML v1.0//EN
CALSCALE:GREGORIAN
METHOD:PUBLISH
X-WR-CALNAME:Edward J. Bloustein School of Planning &amp; Public Policy
X-ORIGINAL-URL:https://bloustein.rutgers.edu
X-WR-CALDESC:Events for Edward J. Bloustein School of Planning &amp; Public Policy
REFRESH-INTERVAL;VALUE=DURATION:PT1H
X-Robots-Tag:noindex
X-PUBLISHED-TTL:PT1H
BEGIN:VTIMEZONE
TZID:America/New_York
BEGIN:DAYLIGHT
TZOFFSETFROM:-0500
TZOFFSETTO:-0400
TZNAME:EDT
DTSTART:20260308T070000
END:DAYLIGHT
BEGIN:STANDARD
TZOFFSETFROM:-0400
TZOFFSETTO:-0500
TZNAME:EST
DTSTART:20261101T060000
END:STANDARD
END:VTIMEZONE
BEGIN:VEVENT
DTSTART;TZID=America/New_York:20260419T090000
DTEND;TZID=America/New_York:20260419T170000
DTSTAMP:20260423T002250
CREATED:20260413T210435Z
LAST-MODIFIED:20260413T210435Z
UID:73960-1776589200-1776618000@bloustein.rutgers.edu
SUMMARY:8th Annual Health Administration Case Competition
DESCRIPTION:We invite undergraduate students at Rutgers University–New Brunswick to participated in the 8th Annual Case Competition\, presented by the Future Healthcare Administrators. It will be held on Sunday\, April 19th from 9AM to 5PM. Open to all schools\, majors\, and years. \nTeams of 3-4 students can apply to compete. All team members must be undergraduate students enrolled at universities located within the United States. All members of a team must be students from the same college/university. \nWant to compete but don’t have a team? Fill out the form and select “Open to more team members!” \nThis is a wonderful opportunity to showcase your problem-solving skills by outlining a solution for the provided hospital case and presenting it to our judges. \nThe event will be followed by a networking session with prospective employers to learn more about their companies. This presents a unique chance to engage directly with the judges from these sponsoring organizations. \nCash prizes will be awarded to the top 3 teams! Register by 4/16/26! \n\nREGISTER HERE
URL:https://bloustein.rutgers.edu/event/8th-annual-health-administration-case-competition/
LOCATION:Gov. James J. Florio Special Events Forum\, CSB\, 33 Livingston Avenue\, New Brunswick\, NJ\, 08901\, United States
CATEGORIES:Competition,External,Health Administration,Public,Student Organization
ATTACH;FMTTYPE=image/jpeg:https://bloustein.rutgers.edu/wp-content/uploads/2026/04/fha-2026-competition.jpg
END:VEVENT
END:VCALENDAR