BEGIN:VCALENDAR
VERSION:2.0
PRODID:-//Edward J. Bloustein School of Planning &amp; Public Policy - ECPv6.14.2//NONSGML v1.0//EN
CALSCALE:GREGORIAN
METHOD:PUBLISH
X-ORIGINAL-URL:https://bloustein.rutgers.edu
X-WR-CALDESC:Events for Edward J. Bloustein School of Planning &amp; Public Policy
REFRESH-INTERVAL;VALUE=DURATION:PT1H
X-Robots-Tag:noindex
X-PUBLISHED-TTL:PT1H
BEGIN:VTIMEZONE
TZID:America/New_York
BEGIN:DAYLIGHT
TZOFFSETFROM:-0500
TZOFFSETTO:-0400
TZNAME:EDT
DTSTART:20260308T070000
END:DAYLIGHT
BEGIN:STANDARD
TZOFFSETFROM:-0400
TZOFFSETTO:-0500
TZNAME:EST
DTSTART:20261101T060000
END:STANDARD
END:VTIMEZONE
BEGIN:VEVENT
DTSTART;TZID=America/New_York:20260422T170000
DTEND;TZID=America/New_York:20260422T180000
DTSTAMP:20260420T194428
CREATED:20260420T142756Z
LAST-MODIFIED:20260420T142756Z
UID:74046-1776877200-1776880800@bloustein.rutgers.edu
SUMMARY:Rutgers Spring Health Administration Alumni Panel & Networking Event
DESCRIPTION:Please join us for virtual networking and an opportunity to meet with\, ask questions\, and gain invaluable advice from Bloustein alumni about various healthcare settings and careers including:\n\nAdministrative Fellowships\nEducation\nHospital / Healthcare Systems\nPharmaceuticals / MedTech\n\n\n\nRSVP HERE
URL:https://bloustein.rutgers.edu/event/rutgers-spring-health-administration-alumni-panel-networking-event/
LOCATION:Virtual
CATEGORIES:Alumni,Career Workshop Panel Roundtable,Health Administration,Public Health,Virtual
ATTACH;FMTTYPE=image/webp:https://bloustein.rutgers.edu/wp-content/uploads/2026/04/2026-spring-HA-alum-panel-networking.webp
END:VEVENT
END:VCALENDAR