BEGIN:VCALENDAR
VERSION:2.0
PRODID:-//Edward J. Bloustein School of Planning &amp; Public Policy - ECPv6.14.2//NONSGML v1.0//EN
CALSCALE:GREGORIAN
METHOD:PUBLISH
X-WR-CALNAME:Edward J. Bloustein School of Planning &amp; Public Policy
X-ORIGINAL-URL:https://bloustein.rutgers.edu
X-WR-CALDESC:Events for Edward J. Bloustein School of Planning &amp; Public Policy
REFRESH-INTERVAL;VALUE=DURATION:PT1H
X-Robots-Tag:noindex
X-PUBLISHED-TTL:PT1H
BEGIN:VTIMEZONE
TZID:America/New_York
BEGIN:DAYLIGHT
TZOFFSETFROM:-0500
TZOFFSETTO:-0400
TZNAME:EDT
DTSTART:20260308T070000
END:DAYLIGHT
BEGIN:STANDARD
TZOFFSETFROM:-0400
TZOFFSETTO:-0500
TZNAME:EST
DTSTART:20261101T060000
END:STANDARD
END:VTIMEZONE
BEGIN:VEVENT
DTSTART;TZID=America/New_York:20260302T110000
DTEND;TZID=America/New_York:20260302T130000
DTSTAMP:20260422T110232
CREATED:20260122T144433Z
LAST-MODIFIED:20260122T144433Z
UID:72136-1772449200-1772456400@bloustein.rutgers.edu
SUMMARY:Virtual Career Drop-ins for Graduate Students
DESCRIPTION:Bloustein graduate students can meet with Career Development Specialists Andrea Garrido or Cheryl Egan for up to 15 minutes to answer any career/internship related questions \nURL: https://go.rutgers.edu/EJBcareerdropin
URL:https://bloustein.rutgers.edu/event/virtual-career-drop-ins-for-graduate-students-22/
LOCATION:Virtual
CATEGORIES:Career Information Session,CAREERS,Virtual
ATTACH;FMTTYPE=image/webp:https://bloustein.rutgers.edu/wp-content/uploads/2024/04/virtual-career-drop-ins.webp
END:VEVENT
BEGIN:VEVENT
DTSTART;TZID=America/New_York:20260309T110000
DTEND;TZID=America/New_York:20260309T130000
DTSTAMP:20260422T110232
CREATED:20260122T144304Z
LAST-MODIFIED:20260122T144304Z
UID:72128-1773054000-1773061200@bloustein.rutgers.edu
SUMMARY:Virtual Career Drop-ins for Graduate Students
DESCRIPTION:Bloustein graduate students can meet with Career Development Specialists Andrea Garrido or Cheryl Egan for up to 15 minutes to answer any career/internship related questions \nURL: https://go.rutgers.edu/EJBcareerdropin
URL:https://bloustein.rutgers.edu/event/virtual-career-drop-ins-for-graduate-students-18/
LOCATION:Virtual
CATEGORIES:Career Information Session,CAREERS,Virtual
ATTACH;FMTTYPE=image/webp:https://bloustein.rutgers.edu/wp-content/uploads/2024/04/virtual-career-drop-ins.webp
END:VEVENT
BEGIN:VEVENT
DTSTART;TZID=America/New_York:20260311T170000
DTEND;TZID=America/New_York:20260311T183000
DTSTAMP:20260422T110232
CREATED:20260219T173018Z
LAST-MODIFIED:20260219T173234Z
UID:73003-1773248400-1773253800@bloustein.rutgers.edu
SUMMARY:Advancing Women's Equity Through Policymaking
DESCRIPTION:Please join the New Jersey State Policy Lab on Wednesday\, March 11th at 5pm for Q&A and networking to meet some of the former students that have worked with the New Jersey State Policy Lab and continued their careers in public policy and health with a focus on women’s equity. \nThis free event will feature former interns\, teaching assistants\, and research assistants who worked with the NJSPL. They will discuss their careers and experience in areas such as maternal and infant healthcare\, education\, and environmental policy\, followed by time for networking\, where students will learn more about careers where they can make a difference in advancing policies for all people. Light refreshments will be provided at the conclusion of the Q&A. \nRSVP HERE \n 
URL:https://bloustein.rutgers.edu/event/advancing-womens-equity-through-policymaking/
LOCATION:Gov. James J. Florio Special Events Forum\, CSB\, 33 Livingston Avenue\, New Brunswick\, NJ\, 08901\, United States
CATEGORIES:Career Professional Development,Public Policy,Symposium/Workshop
ATTACH;FMTTYPE=image/webp:https://bloustein.rutgers.edu/wp-content/uploads/2026/02/njspl_advancing_womens_equity_policymaking.webp
END:VEVENT
BEGIN:VEVENT
DTSTART;TZID=America/New_York:20260323T110000
DTEND;TZID=America/New_York:20260323T130000
DTSTAMP:20260422T110232
CREATED:20260122T144516Z
LAST-MODIFIED:20260122T144516Z
UID:72138-1774263600-1774270800@bloustein.rutgers.edu
SUMMARY:Virtual Career Drop-ins for Graduate Students
DESCRIPTION:Bloustein graduate students can meet with Career Development Specialists Andrea Garrido or Cheryl Egan for up to 15 minutes to answer any career/internship related questions \nURL: https://go.rutgers.edu/EJBcareerdropin
URL:https://bloustein.rutgers.edu/event/virtual-career-drop-ins-for-graduate-students-23/
LOCATION:Virtual
CATEGORIES:Career Information Session,CAREERS,Virtual
ATTACH;FMTTYPE=image/webp:https://bloustein.rutgers.edu/wp-content/uploads/2024/04/virtual-career-drop-ins.webp
END:VEVENT
BEGIN:VEVENT
DTSTART;TZID=America/New_York:20260327T133000
DTEND;TZID=America/New_York:20260327T150000
DTSTAMP:20260422T110232
CREATED:20251202T163547Z
LAST-MODIFIED:20260205T144839Z
UID:71164-1774618200-1774623600@bloustein.rutgers.edu
SUMMARY:CAREERS: Excel: Visualizing Data
DESCRIPTION:RSVP REQUIRED. PLEASE SEE THE CAREER SERVICES WEEKLY EMAIL FOR THE LINK TO RSVP.
URL:https://bloustein.rutgers.edu/event/careers-excel-visualizing-data/
LOCATION:Virtual
CATEGORIES:CAREERS,Careers Technical Development,Virtual
ATTACH;FMTTYPE=image/webp:https://bloustein.rutgers.edu/wp-content/uploads/2025/12/excel-visualizing-data.webp
END:VEVENT
BEGIN:VEVENT
DTSTART;TZID=America/New_York:20260330T110000
DTEND;TZID=America/New_York:20260330T130000
DTSTAMP:20260422T110232
CREATED:20260122T144534Z
LAST-MODIFIED:20260122T144534Z
UID:72140-1774868400-1774875600@bloustein.rutgers.edu
SUMMARY:Virtual Career Drop-ins for Graduate Students
DESCRIPTION:Bloustein graduate students can meet with Career Development Specialists Andrea Garrido or Cheryl Egan for up to 15 minutes to answer any career/internship related questions \nURL: https://go.rutgers.edu/EJBcareerdropin
URL:https://bloustein.rutgers.edu/event/virtual-career-drop-ins-for-graduate-students-24/
LOCATION:Virtual
CATEGORIES:Career Information Session,CAREERS,Virtual
ATTACH;FMTTYPE=image/webp:https://bloustein.rutgers.edu/wp-content/uploads/2024/04/virtual-career-drop-ins.webp
END:VEVENT
END:VCALENDAR