BEGIN:VCALENDAR
VERSION:2.0
PRODID:-//Edward J. Bloustein School of Planning &amp; Public Policy - ECPv6.14.2//NONSGML v1.0//EN
CALSCALE:GREGORIAN
METHOD:PUBLISH
X-WR-CALNAME:Edward J. Bloustein School of Planning &amp; Public Policy
X-ORIGINAL-URL:https://bloustein.rutgers.edu
X-WR-CALDESC:Events for Edward J. Bloustein School of Planning &amp; Public Policy
REFRESH-INTERVAL;VALUE=DURATION:PT1H
X-Robots-Tag:noindex
X-PUBLISHED-TTL:PT1H
BEGIN:VTIMEZONE
TZID:America/New_York
BEGIN:DAYLIGHT
TZOFFSETFROM:-0500
TZOFFSETTO:-0400
TZNAME:EDT
DTSTART:20240310T070000
END:DAYLIGHT
BEGIN:STANDARD
TZOFFSETFROM:-0400
TZOFFSETTO:-0500
TZNAME:EST
DTSTART:20241103T060000
END:STANDARD
BEGIN:DAYLIGHT
TZOFFSETFROM:-0500
TZOFFSETTO:-0400
TZNAME:EDT
DTSTART:20250309T070000
END:DAYLIGHT
BEGIN:STANDARD
TZOFFSETFROM:-0400
TZOFFSETTO:-0500
TZNAME:EST
DTSTART:20251102T060000
END:STANDARD
END:VTIMEZONE
BEGIN:VEVENT
DTSTART;TZID=America/New_York:20240502T120000
DTEND;TZID=America/New_York:20240502T140000
DTSTAMP:20260424T091923
CREATED:20240401T142945Z
LAST-MODIFIED:20240401T142945Z
UID:57689-1714651200-1714658400@bloustein.rutgers.edu
SUMMARY:Bloustein Honors Research Program Oral Thesis Defense
DESCRIPTION:The members of the 2023-24 Bloustein Honors Research Program cohort will be presenting an Oral Thesis Defense on Thursday\, May 2\, noon to 2:30 pm. \nThey will also present their individual research projects in a Research Poster Session on Thursday\, April 25\, from noon to 2:00 pm \nBoth events will be held in the Civic Square Building\, Room 369\,  33 Livingston Avenue\, New Brunswick. \nDuring the poster session\, students will present a brief overview of their project and answer questions from the audience about the poster portrayal of their work. During the oral thesis defense\, each student will give a 15-minute academic research presentation about their project and answer questions from the faculty\, leadership\, and others in the audience.
URL:https://bloustein.rutgers.edu/event/bloustein-honors-research-program-oral-thesis-defense/
LOCATION:Bloustein School\, Civic Square Building\, 33 Livingston Avenue\, New Brunswick\, NJ\, 08901\, United States
CATEGORIES:Hybrid,Public,Seminar
ATTACH;FMTTYPE=image/jpeg:https://bloustein.rutgers.edu/wp-content/uploads/2024/04/bhrp-graphic.jpg
END:VEVENT
BEGIN:VEVENT
DTSTART;TZID=America/New_York:20250501T120000
DTEND;TZID=America/New_York:20250501T120000
DTSTAMP:20260424T091923
CREATED:20250401T132921Z
LAST-MODIFIED:20250401T132921Z
UID:63892-1746100800-1746100800@bloustein.rutgers.edu
SUMMARY:Bloustein Honors Research Program Oral Thesis Defense
DESCRIPTION:The members of the 2023-24 Bloustein Honors Research Program cohort will be presenting an Oral Thesis Defense on Thursday\, May 1\, noon to 2:30 pm in room 369 \nThey will also present their individual research projects in a Research Poster Session on Thursday\, April 24\, from noon to 2:00 pm in the Florio Special Events Forum \nDuring the poster session\, students will present a brief overview of their project and answer questions from the audience about the poster portrayal of their work. During the oral thesis defense\, each student will give a 15-minute academic research presentation about their project and answer questions from the faculty\, leadership\, and others in the audience.
URL:https://bloustein.rutgers.edu/event/bloustein-honors-research-program-oral-thesis-defense-2/
LOCATION:Bloustein School\, Civic Square Building\, 33 Livingston Avenue\, New Brunswick\, NJ\, 08901\, United States
CATEGORIES:Hybrid,Public,Seminar
ATTACH;FMTTYPE=image/jpeg:https://bloustein.rutgers.edu/wp-content/uploads/2024/04/bhrp-graphic.jpg
END:VEVENT
END:VCALENDAR