BEGIN:VCALENDAR
VERSION:2.0
PRODID:-//Edward J. Bloustein School of Planning &amp; Public Policy - ECPv6.14.2//NONSGML v1.0//EN
CALSCALE:GREGORIAN
METHOD:PUBLISH
X-ORIGINAL-URL:https://bloustein.rutgers.edu
X-WR-CALDESC:Events for Edward J. Bloustein School of Planning &amp; Public Policy
REFRESH-INTERVAL;VALUE=DURATION:PT1H
X-Robots-Tag:noindex
X-PUBLISHED-TTL:PT1H
BEGIN:VTIMEZONE
TZID:America/New_York
BEGIN:DAYLIGHT
TZOFFSETFROM:-0500
TZOFFSETTO:-0400
TZNAME:EDT
DTSTART:20240310T070000
END:DAYLIGHT
BEGIN:STANDARD
TZOFFSETFROM:-0400
TZOFFSETTO:-0500
TZNAME:EST
DTSTART:20241103T060000
END:STANDARD
END:VTIMEZONE
BEGIN:VEVENT
DTSTART;TZID=America/New_York:20241021T160000
DTEND;TZID=America/New_York:20241021T173000
DTSTAMP:20260421T031341
CREATED:20240917T195322Z
LAST-MODIFIED:20240923T201022Z
UID:60058-1729526400-1729531800@bloustein.rutgers.edu
SUMMARY:Intelligent Informatics @ Bloustein: Influence of AI in Public Administration:  The Finnish Experience
DESCRIPTION:Presented by Jari Stenvall Professor of Administrative Sciences\, Tampere University\, Finland \nArtificial intelligence has meant a revolution in public administration and services. On the other hand\, there have been recent discussions suggesting that generative AI in particular will remain mainly a tool for individual employees. The key to the use of AI is not only the development of new innovations but also their implementation. \nThere are three approaches to implementation. The technological dimension means that actions will evolve with new technologies. In the data-driven dimension\, actions evolve by strengthening data-driven decision-making and action; in the organizational dimension\, actions change through organizational transformation. Leadership\, relevance\, and learning are also key to successful implementation. These are discussed theoretically and practically in the lecture. \nThe lecture will include several practical examples of AI implementation\, relevance and learning. The examples are related\, for instance\, to a research which has analyzed teachers’ experiences of AI implementation in Finland. \nFinland is a strongly technology-oriented country. Similarly\, Finland is one of the top countries in the world for innovations. A key strength has been the successful public education system. \nFacilitated by Professors Radha Jagannathan and Jim Samuel Join the Intelligent Informatics forum on LinkedIn https://go.rutgers.edu/rutgersinfx \nHosted by the Master of Public Informatics (MPI) program at Rutgers University the Public Informatics Student Group\, and PASCAL Rutgers Center.
URL:https://bloustein.rutgers.edu/event/intelligent-informatics-bloustein-influence-of-ai-in-public-administration-the-finnish-experience/
LOCATION:Bloustein School\, Civic Square Building\, 33 Livingston Avenue\, New Brunswick\, NJ\, 08901\, United States
CATEGORIES:Informatics,Public,Public Policy,Seminar
ATTACH;FMTTYPE=image/jpeg:https://bloustein.rutgers.edu/wp-content/uploads/2024/09/10212024-II@B-AIPublicAdministration-header.jpg
END:VEVENT
BEGIN:VEVENT
DTSTART;TZID=America/New_York:20241024T160000
DTEND;TZID=America/New_York:20241024T173000
DTSTAMP:20260421T031341
CREATED:20240917T203614Z
LAST-MODIFIED:20241029T135718Z
UID:60062-1729785600-1729791000@bloustein.rutgers.edu
SUMMARY:Fostering Health Equity by Creating Equitable Housing: An Anchor Institution’s Journey
DESCRIPTION:Presented by Kenneth Morris\, Jr.\, MHA\, MA\nVice President\, External Affairs\, St. Joseph’s Health \nView Video Here \nSupportive housing is a groundbreaking concept that combines affordable housing with essential services to provide stability\, autonomy\, and dignity to people grappling with complex challenges. The New Jersey Housing and Mortgage Finance Agency (HMFA) Hospital Partnership Subsidy Pilot Program revolutionized the affordable housing landscape by leveraging hospital equity with the 4% Low-Income Housing Tax Credit program to establish affordable housing developments near hospital campuses\, catering specifically to frequent users of hospital services. \nRecognizing the pivotal role of stable\, affordable housing in healthcare\, St. Joseph’s Health\, in collaboration with HMFA and local agencies\, opened Barclay Place\, the first supportive affordable housing  development in New Jersey. Launched in 2023\, Barclay Place\, located near St. Joseph’s University Medical Center in Paterson\, offers vulnerable families and individuals the opportunity to rent affordable apartments and access vital supportive services St. Joseph’s Health provides.  This innovative initiative embodies a new era of compassionate and comprehensive care\, empowering individuals\, and families to thrive in a nurturing and supportive environment. \nAs Vice President of External Affairs at St. Joseph’s Health\, Kenneth M. Morris\, Jr.\, MHA\, MA\, oversees operations at the Paterson\, Wayne\, and Totowa\, NJ campuses. In this role\, he manages Government Affairs\, Community Outreach and Engagement\, the System’s Regional Health Coalition\, the Hospital-Based Violence Intervention Program\, and WIC\, as well as a portfolio of the System’s real estate holdings. Over his 43-year career at St. Joseph’s\, Ken has developed programs to enhance healthcare access for underprivileged residents in Passaic County. Notably\, he spearheaded the creation of the first supportive affordable housing development in New Jersey\, addressing social determinants of health. \nThe Ruth Ellen Steinman Bloustein and Edward J. Bloustein Memorial Lecture was established to honor the memory of these two extraordinary individuals. It celebrates the values and interests Ruth Ellen and Ed cherished and cultivated throughout their lives: the study and preservation of animal species and the natural environment\, the celebration of love\, happiness\, and laughter as tools of clinical medicine\, and the exploration and promotion of humane values\, which they believed were woven in the fabric of Judaic tradition and passed down from generation to generation.
URL:https://bloustein.rutgers.edu/event/bloustein-memorial-lecture-fostering-health-equity-by-creating-equitable-housing-an-anchor-institutions-journey/
LOCATION:Bloustein School\, Civic Square Building\, 33 Livingston Avenue\, New Brunswick\, NJ\, 08901\, United States
CATEGORIES:Alumni,Health Administration,Informatics,Public Health,Public Policy,Seminar,Urban Planning
ATTACH;FMTTYPE=image/jpeg:https://bloustein.rutgers.edu/wp-content/uploads/2024/09/bloustein-lecture-2024-kenmorris.jpg
END:VEVENT
END:VCALENDAR