BEGIN:VCALENDAR
VERSION:2.0
PRODID:-//Edward J. Bloustein School of Planning &amp; Public Policy - ECPv6.14.2//NONSGML v1.0//EN
CALSCALE:GREGORIAN
METHOD:PUBLISH
X-WR-CALNAME:Edward J. Bloustein School of Planning &amp; Public Policy
X-ORIGINAL-URL:https://bloustein.rutgers.edu
X-WR-CALDESC:Events for Edward J. Bloustein School of Planning &amp; Public Policy
REFRESH-INTERVAL;VALUE=DURATION:PT1H
X-Robots-Tag:noindex
X-PUBLISHED-TTL:PT1H
BEGIN:VTIMEZONE
TZID:America/New_York
BEGIN:DAYLIGHT
TZOFFSETFROM:-0500
TZOFFSETTO:-0400
TZNAME:EDT
DTSTART:20240310T070000
END:DAYLIGHT
BEGIN:STANDARD
TZOFFSETFROM:-0400
TZOFFSETTO:-0500
TZNAME:EST
DTSTART:20241103T060000
END:STANDARD
END:VTIMEZONE
BEGIN:VEVENT
DTSTART;TZID=America/New_York:20240304T193000
DTEND;TZID=America/New_York:20240304T210000
DTSTAMP:20260422T114000
CREATED:20240116T172357Z
LAST-MODIFIED:20240116T173503Z
UID:56030-1709580600-1709586000@bloustein.rutgers.edu
SUMMARY:Bildner Center for the Study of Jewish Life--Not Quite White in Fiction and Film: Laura Z. Hobson’s Gentleman's Agreement and Nella Larsen’s Passing
DESCRIPTION:Gentleman’s Agreement and Passing are critically-acclaimed novels on racial and ethnic passing that have also been adapted for the screen. These works explore how anti-Black racism and antisemitism have shaped the integration of Blacks and Jews into White Christian American society. A panel will explore both novels as well as their adaptations for the screen. Excerpts from both films will be shown during the program\, which will be held at the Douglass Student Center. \nPanelists: \n\nDonavan L. Ramon\, Allen and Joan Bildner Visiting Scholar\, Rutgers University\nRachel Gordan\, Shorstein Professor of American Jewish Culture and Society\, University of Florida\nGene Seymour (moderator)\, Film and Cultural Critic\n\nFree and open to the public\, advance registration is required on the Bildner Center’s website. Click here.
URL:https://bloustein.rutgers.edu/event/not-quite-white-in-fiction-and-film-laura-z-hobsons-gentlemans-agreement-and-nella-larsens-passing/
LOCATION:Douglass Student Center\, 100 George Street\, New Brunswick\, NJ\, 08901\, United States
CATEGORIES:External,Public
ATTACH;FMTTYPE=image/jpeg:https://bloustein.rutgers.edu/wp-content/uploads/2024/01/bildner-center-not-quite-white-fiction-film.jpg
END:VEVENT
BEGIN:VEVENT
DTSTART;TZID=America/New_York:20240307T150000
DTEND;TZID=America/New_York:20240307T160000
DTSTAMP:20260422T114000
CREATED:20240116T212644Z
LAST-MODIFIED:20240116T214941Z
UID:56070-1709823600-1709827200@bloustein.rutgers.edu
SUMMARY:Navigating Tensions\, Affirming Community--Dangerous Speech and What We Can Do About It
DESCRIPTION:Susan Benesch is an Adjunct Associate Professor\, School of International Service\, American University. She founded and directs the Dangerous Speech Project (dangerousspeech.org)\, to study speech that can inspire violence – and to find ways to prevent this\, without infringing on freedom of expression. She researches methods to diminish harmful speech online\, or the harm itself. Trained as a human rights lawyer at Yale\, Susan has worked for NGOs including Amnesty International and Human Rights First. She is also Faculty Associate of the Berkman Klein Center for Internet & Society at Harvard University. \n\nRSVP HERE. \nTo learn more\, visit go.rutgers.edu/meetthemoment\nQuestions? Email diversity@rutgers.edu\n\n 
URL:https://bloustein.rutgers.edu/event/navigating-tensions-affirming-community-dangerous-speech-and-what-we-can-do-about-it/
LOCATION:Rutgers-Camden\, 326 Penn Street\, Camden\, 08102\, United States
CATEGORIES:External,Hybrid,Public
ATTACH;FMTTYPE=image/jpeg:https://bloustein.rutgers.edu/wp-content/uploads/2024/01/navigating-tensions-speaker-series.jpg
END:VEVENT
BEGIN:VEVENT
DTSTART;TZID=America/New_York:20240320T170000
DTEND;TZID=America/New_York:20240320T180000
DTSTAMP:20260422T114000
CREATED:20240117T170709Z
LAST-MODIFIED:20240117T170816Z
UID:56092-1710954000-1710957600@bloustein.rutgers.edu
SUMMARY:Occupant-Centric Simulation-Aided Building Design--Methods to obtain the occupant perspective
DESCRIPTION:International Building Performance Simulation Association (IBPSA) is a non-profit international society of building performance simulation researchers\, developers and practitioners\, dedicated to improving the built environment. Their new seminar series\, Occupant-Centric Simulation-Aided Building Design\, promotes occupants as a focal point for the design process. A multi-disciplinary\, globally recognized team of scholars and practitioners responsible for an important new textbook will discuss theoretical and practical approaches to placing occupants and their needs at the heart of the design process. \n\n\n\nIn this webinar Clinton Andrews\, Bloustein School Professor and Associate Dean for Research will critically examine methods for learning about the occupant’s perspective regarding the design of buildings. He will discuss the nature of occupant data; the strengths and weaknesses of self-report\, observational\, and simulation methods; and the need to represent occupants prudently during the design process.\n\n\n\n\n\nRegistration is required at https://bit.ly/IBPSA_webinars_candrews\n\nSee the complete webinar series flyer.
URL:https://bloustein.rutgers.edu/event/occupant-centric-simulation-aided-building-design-methods-to-obtain-the-occupant-perspective/
LOCATION:Virtual
CATEGORIES:External,Public,Urban Planning,Virtual
ATTACH;FMTTYPE=image/jpeg:https://bloustein.rutgers.edu/wp-content/uploads/2024/01/IBPSA-Education-Seminar-Series-2024.jpg
END:VEVENT
BEGIN:VEVENT
DTSTART;TZID=America/New_York:20240327T120000
DTEND;TZID=America/New_York:20240327T130000
DTSTAMP:20260422T114000
CREATED:20240229T183002Z
LAST-MODIFIED:20240229T183002Z
UID:57084-1711540800-1711544400@bloustein.rutgers.edu
SUMMARY:Changes in Healthcare Visits Due to Cannabis Use Following Legalization of Non-medical Cannabis in Canada
DESCRIPTION:Join us on Wednesday\, March 27\, at 12 pm ET for a presentation of the NJ ACTS Special Populations Core 2024 Seminar Series – Changes in Healthcare Visits Due to Cannabis Use Following Legalization of Non-medical Cannabis in Canada with Daniel Myran\, MD\, MPH\, CCFP\, FRCPC. \nAn increasing number of countries and US states have legalized or are considering the legalization of cannabis for non-medical use. A major concern is that legalization could increase cannabis use and associated harms. This presentation will review studies tracking changes in healthcare visits due to cannabis in children and adults following non-medical cannabis legalization in Canada. \nDr. Daniel Myran is a clinician-scientist and assistant professor with the Department of Family Medicine at the University of Ottawa. He is an associate scientist at ICES\, where his research program focuses on using natural experiments combined with linked health administrative data to better understand the impacts of public policy on mental health and substance use healthcare visits and outcomes. He practices family medicine with an interest in addiction medicine. \nRegister for the event: https://go.rutgers.edu/jveb79ao
URL:https://bloustein.rutgers.edu/event/changes-in-healthcare-visits-due-to-cannabis-use-following-legalization-of-non-medical-cannabis-in-canada/
LOCATION:Virtual
CATEGORIES:External,Public,Public Health,Virtual
ATTACH;FMTTYPE=image/jpeg:https://bloustein.rutgers.edu/wp-content/uploads/2024/02/Changes-in-Healthcare-Visits-Due-to-Cannabis-Use.jpg
END:VEVENT
END:VCALENDAR