BEGIN:VCALENDAR
VERSION:2.0
PRODID:-//Edward J. Bloustein School of Planning &amp; Public Policy - ECPv6.14.2//NONSGML v1.0//EN
CALSCALE:GREGORIAN
METHOD:PUBLISH
X-WR-CALNAME:Edward J. Bloustein School of Planning &amp; Public Policy
X-ORIGINAL-URL:https://bloustein.rutgers.edu
X-WR-CALDESC:Events for Edward J. Bloustein School of Planning &amp; Public Policy
REFRESH-INTERVAL;VALUE=DURATION:PT1H
X-Robots-Tag:noindex
X-PUBLISHED-TTL:PT1H
BEGIN:VTIMEZONE
TZID:America/New_York
BEGIN:DAYLIGHT
TZOFFSETFROM:-0500
TZOFFSETTO:-0400
TZNAME:EDT
DTSTART:20230312T070000
END:DAYLIGHT
BEGIN:STANDARD
TZOFFSETFROM:-0400
TZOFFSETTO:-0500
TZNAME:EST
DTSTART:20231105T060000
END:STANDARD
END:VTIMEZONE
BEGIN:VEVENT
DTSTART;TZID=America/New_York:20231108T161000
DTEND;TZID=America/New_York:20231108T175000
DTSTAMP:20260422T023908
CREATED:20231013T180207Z
LAST-MODIFIED:20231027T174447Z
UID:51935-1699459800-1699465800@bloustein.rutgers.edu
SUMMARY:Public Policy Listening Session
DESCRIPTION:This Listening Session will be held during the AFE Course \nHosted by \n\nProfessor Julia Sass Rubin\, Associate Dean of Academic Programs and Public Policy Program Director\nSahar Sherwani\, VP of Public Policy Program for BGSA\nCourtney Culler\nGreg Marrero\n\n 
URL:https://bloustein.rutgers.edu/event/public-policy-listening-session/
LOCATION:Virtual
CATEGORIES:Hybrid,Public Policy,Student Services
ATTACH;FMTTYPE=image/jpeg:https://bloustein.rutgers.edu/wp-content/uploads/2023/10/public-policy-listening-session-slide.jpg
END:VEVENT
END:VCALENDAR