BEGIN:VCALENDAR
VERSION:2.0
PRODID:-//Edward J. Bloustein School of Planning &amp; Public Policy - ECPv6.14.2//NONSGML v1.0//EN
CALSCALE:GREGORIAN
METHOD:PUBLISH
X-WR-CALNAME:Edward J. Bloustein School of Planning &amp; Public Policy
X-ORIGINAL-URL:https://bloustein.rutgers.edu
X-WR-CALDESC:Events for Edward J. Bloustein School of Planning &amp; Public Policy
REFRESH-INTERVAL;VALUE=DURATION:PT1H
X-Robots-Tag:noindex
X-PUBLISHED-TTL:PT1H
BEGIN:VTIMEZONE
TZID:America/New_York
BEGIN:DAYLIGHT
TZOFFSETFROM:-0500
TZOFFSETTO:-0400
TZNAME:EDT
DTSTART:20250309T070000
END:DAYLIGHT
BEGIN:STANDARD
TZOFFSETFROM:-0400
TZOFFSETTO:-0500
TZNAME:EST
DTSTART:20251102T060000
END:STANDARD
END:VTIMEZONE
BEGIN:VEVENT
DTSTART;TZID=America/New_York:20250204T193000
DTEND;TZID=America/New_York:20250204T203000
DTSTAMP:20260422T133227
CREATED:20250203T193623Z
LAST-MODIFIED:20250203T195052Z
UID:61945-1738697400-1738701000@bloustein.rutgers.edu
SUMMARY:Rutgers Real Estate Club/Corenet Global Networking Event
DESCRIPTION:The Rutgers Real Estate Club invites Bloustein School students to attend an exciting networking event on Tuesday\, February 4 beginning at 7:30 p.m. at Rutgers Business School. \nExecutives from Corenet Global will be on campus to speak about architecture\, real estate\, and more. After the talk\, students will have the opportunity to talk to the speakers one-on-one and make industry-level connections. \nDress code: Business Casual \nUndergrads and grads are welcome! \nPlease contact Rutgers Real Estate Club’s Events and Campus Relations Officer Dhyana Patel for further questions at dhyana.patel@rutgers.edu
URL:https://bloustein.rutgers.edu/event/rutgers-real-estate-club-corenet-global-networking-event/
LOCATION:Rutgers Business School\, 100 Rockafeller Road\, Piscataway\, 08854\, United States
CATEGORIES:External,Public Policy,Social Gathering,Student Services,Urban Planning
ATTACH;FMTTYPE=image/jpeg:https://bloustein.rutgers.edu/wp-content/uploads/2025/02/corenet-global-flyer.jpg
END:VEVENT
BEGIN:VEVENT
DTSTART;TZID=America/New_York:20250207T093000
DTEND;TZID=America/New_York:20250207T120000
DTSTAMP:20260422T133227
CREATED:20250124T205050Z
LAST-MODIFIED:20250124T205050Z
UID:61760-1738920600-1738929600@bloustein.rutgers.edu
SUMMARY:TOD in Your Downtown Forum -- Affordable Housing + TOD: Obligations and Opportunities
DESCRIPTION:This event\, hosted by NJTOD\, Downtown New Jersey\, and NJ TRANSIT’s Transit Friendly Planning (TFP) Program will bring together experts from public agencies\, nonprofit organizations\, and the private sector to share their experiences with affordable housing in downtowns across New Jersey. Affordable housing is not only a legal obligation in New Jersey but also vital contributor to the vibrancy of our Main Streets and the success of equitable transit-oriented development (e-TOD). \nWith the release of the fourth-round regulations of the Council of Affordable Housing (COAH)\, many municipalities across the state will need to plan for additional affordable housing units. The panel will discuss their experiences in developing affordable and mixed-income housing\, strategies for meeting affordable housing obligations\, and approaches to equitably locating affordable housing. Panelists will also highlight best practices for leveraging e-TOD to create new affordable housing in transit-rich neighborhoods. \nRSVP HERE \nNJTOD\, published since 2005\, is designed to keep municipal officials\, planners\, and advocates up-to-date on the potential for development and redevelopment around transit stations. This partnership between NJ TRANSIT and the Bloustein School’s Alan M. Voorhees Transportation Center (VTC) at Rutgers University aims to enrich the transit-oriented development (TOD) conversation in New Jersey’s diverse communities by highlighting what is happening in the state and around the country: best practices\, model programs\, legislation\, and local problem-solving experiences. \nDowntown New Jersey is a non-profit membership organization of individuals\, businesses\, developers\, government agencies\, and local and regional entities that are passionate about downtowns. Downtowns reflect our communities’ unique identities\, provide a focal point\, a convenient local place of commerce\, and offer a sense of place where people can gather and truly be a community. DNJ provides advocacy\, education\, and technical assistance resources dedicated to ensuring the vitality of our downtowns. \nThe Transit Friendly Planning Program at NJ TRANSIT is a community-focused planning program at New Jersey’s statewide public transportation agency. It offers decades of experience in assisting municipalities across New Jersey with community engagement\, data\, education\, strategic partnerships\, and technical assistance centered around station area planning. The Program strives to promote equitable\, economically resilient\, and environmentally sustainable development that improves the quality of life for all.
URL:https://bloustein.rutgers.edu/event/tod-in-your-downtown-forum-affordable-housing-tod-obligations-and-opportunities/
LOCATION:Bloustein School\, Civic Square Building\, 33 Livingston Avenue\, New Brunswick\, NJ\, 08901\, United States
CATEGORIES:External,Public,Public Policy,Symposium/Workshop,Urban Planning
ATTACH;FMTTYPE=image/jpeg:https://bloustein.rutgers.edu/wp-content/uploads/2025/01/2025-tod-in-your-downtown-forum.jpg
END:VEVENT
BEGIN:VEVENT
DTSTART;TZID=America/New_York:20250212T093000
DTEND;TZID=America/New_York:20250212T113000
DTSTAMP:20260422T133227
CREATED:20250123T165733Z
LAST-MODIFIED:20250123T165840Z
UID:61746-1739352600-1739359800@bloustein.rutgers.edu
SUMMARY:A Talk with Dr. Brian Bridges\, NJ Secretary of Higher Education
DESCRIPTION:The New Jersey State Policy Lab will be hosting a talk and Q&A with Dr. Brian Bridges\, the Secretary of Higher Education for the state of New Jersey. \nDuring this event\, Dr. Bridges will discuss trends in higher education’s affordability\, accessibility\, and attainment in the Garden State\, as well as challenges confronting assorted stakeholders. The event will include a continental breakfast\, and there will be opportunities for networking before and after the seminar. \nRSVP HERE
URL:https://bloustein.rutgers.edu/event/a-talk-with-dr-brian-bridges-nj-secretary-of-higher-education/
LOCATION:Bloustein School\, Civic Square Building\, 33 Livingston Avenue\, New Brunswick\, NJ\, 08901\, United States
CATEGORIES:Public Policy,Symposium/Workshop
ATTACH;FMTTYPE=image/png:https://bloustein.rutgers.edu/wp-content/uploads/2025/01/Brian-Bridges-Event-Social-Media.png
END:VEVENT
BEGIN:VEVENT
DTSTART;TZID=America/New_York:20250226T161500
DTEND;TZID=America/New_York:20250226T174500
DTSTAMP:20260422T133227
CREATED:20250221T210907Z
LAST-MODIFIED:20250221T210907Z
UID:62194-1740586500-1740591900@bloustein.rutgers.edu
SUMMARY:Public Policy Listening Session
DESCRIPTION:The Public Policy Listening Session is an open and informal forum discussion for students to provide feedback\, offer suggestions\, and hear the most up to date news about the program. \nHosted by Julia Sass Rubin\, Public Policy Program Director; Iman Basit\, VP of Public Policy Program for Bloustein Graduate Student Association; Courtney Culler\, Associate Director for Graduate Student Services; and Greg Marrero\, Student Counselor for Graduate Student Services. \nIN PERSON in CSB Room 261 or via Zoom. \nRSVP HERE \n 
URL:https://bloustein.rutgers.edu/event/public-policy-listening-session-3/
LOCATION:Bloustein School\, Civic Square Building\, 33 Livingston Avenue\, New Brunswick\, NJ\, 08901\, United States
CATEGORIES:Hybrid,Public Policy,Student Services
ATTACH;FMTTYPE=image/jpeg:https://bloustein.rutgers.edu/wp-content/uploads/2024/04/public-policy-listening-session.jpg
END:VEVENT
END:VCALENDAR