BEGIN:VCALENDAR
VERSION:2.0
PRODID:-//Edward J. Bloustein School of Planning &amp; Public Policy - ECPv6.14.2//NONSGML v1.0//EN
CALSCALE:GREGORIAN
METHOD:PUBLISH
X-WR-CALNAME:Edward J. Bloustein School of Planning &amp; Public Policy
X-ORIGINAL-URL:https://bloustein.rutgers.edu
X-WR-CALDESC:Events for Edward J. Bloustein School of Planning &amp; Public Policy
REFRESH-INTERVAL;VALUE=DURATION:PT1H
X-Robots-Tag:noindex
X-PUBLISHED-TTL:PT1H
BEGIN:VTIMEZONE
TZID:America/New_York
BEGIN:DAYLIGHT
TZOFFSETFROM:-0500
TZOFFSETTO:-0400
TZNAME:EDT
DTSTART:20260308T070000
END:DAYLIGHT
BEGIN:STANDARD
TZOFFSETFROM:-0400
TZOFFSETTO:-0500
TZNAME:EST
DTSTART:20261101T060000
END:STANDARD
END:VTIMEZONE
BEGIN:VEVENT
DTSTART;TZID=America/New_York:20260210T140000
DTEND;TZID=America/New_York:20260210T150000
DTSTAMP:20260420T054407
CREATED:20260220T151427Z
LAST-MODIFIED:20260220T151427Z
UID:73083-1770732000-1770735600@bloustein.rutgers.edu
SUMMARY:Intro to Urban Planning & Design Lecture Series: Jesse Hirakawa
DESCRIPTION:The lecture series “Introduction to Urban Planning & Design” is made possible by a Rutgers Teaching Enhancement Grant from the Vice Provost for Experiential Learning awarded to Assistant Professor Carmelo Ignaccolo. \nThis week\, the speaker is Jesse Hirakawa\, Senior Urban Designer\, NYC Department of City Planning. \nThe series will feature an incredible lineup of speakers from public agencies\, design NGOs\, leading design firms\, and international organizations. It is open to both undergraduate and graduate students and will also include a spring class site visit with AECOM’s Landscape Architecture and Urban Design Studio to their award-winning climate-resilient parks in Newark and Lower Manhattan. \nEach event is open to the public\, subject to seat availability. \n 
URL:https://bloustein.rutgers.edu/event/intro-to-urban-planning-design-lecture-series-jesse-hirakawa/
LOCATION:Bloustein School CSB\, Room 261\, 33 Livingston Avenue\, New Brunswick\, NJ\, 08901\, United States
CATEGORIES:Seminar,Urban Planning
ATTACH;FMTTYPE=image/webp:https://bloustein.rutgers.edu/wp-content/uploads/2026/02/UPD-design-series-2026.webp
END:VEVENT
BEGIN:VEVENT
DTSTART;TZID=America/New_York:20260217T140000
DTEND;TZID=America/New_York:20260217T150000
DTSTAMP:20260420T054407
CREATED:20260220T151557Z
LAST-MODIFIED:20260220T151557Z
UID:73087-1771336800-1771340400@bloustein.rutgers.edu
SUMMARY:Intro to Urban Planning & Design Lecture Series: Einat Lubliner
DESCRIPTION:The lecture series “Introduction to Urban Planning & Design” is made possible by a Rutgers Teaching Enhancement Grant from the Vice Provost for Experiential Learning awarded to Assistant Professor Carmelo Ignaccolo. \nThis week\, the speaker is Einat Lubliner\, Senior Urban Designer\, Bjarke Ingels Group. \nThe series will feature an incredible lineup of speakers from public agencies\, design NGOs\, leading design firms\, and international organizations. It is open to both undergraduate and graduate students and will also include a spring class site visit with AECOM’s Landscape Architecture and Urban Design Studio to their award-winning climate-resilient parks in Newark and Lower Manhattan. \nEach event is open to the public\, subject to seat availability. \n 
URL:https://bloustein.rutgers.edu/event/intro-to-urban-planning-design-lecture-series-einat-lubliner/
LOCATION:Bloustein School CSB\, Room 261\, 33 Livingston Avenue\, New Brunswick\, NJ\, 08901\, United States
CATEGORIES:Seminar,Urban Planning
ATTACH;FMTTYPE=image/webp:https://bloustein.rutgers.edu/wp-content/uploads/2026/02/UPD-design-series-2026.webp
END:VEVENT
BEGIN:VEVENT
DTSTART;TZID=America/New_York:20260219T150000
DTEND;TZID=America/New_York:20260219T170000
DTSTAMP:20260420T054407
CREATED:20260206T184341Z
LAST-MODIFIED:20260206T184341Z
UID:72819-1771513200-1771520400@bloustein.rutgers.edu
SUMMARY:Dissertation Defense: Expanding Participation in Computing: Navigating Power and Privilege on the Pathway to a Computer Science Degree
DESCRIPTION:Presented by Elaine Zundl. \nTo attend virtually\, use the Zoom link provided via email.
URL:https://bloustein.rutgers.edu/event/dissertation-defense-expanding-participation-in-computing-navigating-power-and-privilege-on-the-pathway-to-a-computer-science-degree/
LOCATION:Virtual
CATEGORIES:Public Policy,Seminar,Urban Planning,Virtual
ATTACH;FMTTYPE=image/jpeg:https://bloustein.rutgers.edu/wp-content/uploads/2023/10/dissertation-defense.jpg
END:VEVENT
END:VCALENDAR