BEGIN:VCALENDAR
VERSION:2.0
PRODID:-//Edward J. Bloustein School of Planning &amp; Public Policy - ECPv6.14.2//NONSGML v1.0//EN
CALSCALE:GREGORIAN
METHOD:PUBLISH
X-WR-CALNAME:Edward J. Bloustein School of Planning &amp; Public Policy
X-ORIGINAL-URL:https://bloustein.rutgers.edu
X-WR-CALDESC:Events for Edward J. Bloustein School of Planning &amp; Public Policy
REFRESH-INTERVAL;VALUE=DURATION:PT1H
X-Robots-Tag:noindex
X-PUBLISHED-TTL:PT1H
BEGIN:VTIMEZONE
TZID:America/New_York
BEGIN:DAYLIGHT
TZOFFSETFROM:-0500
TZOFFSETTO:-0400
TZNAME:EDT
DTSTART:20240310T070000
END:DAYLIGHT
BEGIN:STANDARD
TZOFFSETFROM:-0400
TZOFFSETTO:-0500
TZNAME:EST
DTSTART:20241103T060000
END:STANDARD
END:VTIMEZONE
BEGIN:VEVENT
DTSTART;TZID=America/New_York:20240407T113000
DTEND;TZID=America/New_York:20240407T133000
DTSTAMP:20260420T022713
CREATED:20240314T182358Z
LAST-MODIFIED:20240314T183956Z
UID:57443-1712489400-1712496600@bloustein.rutgers.edu
SUMMARY:Historic Preservation and Development Walking Tour: Newark\, NJ
DESCRIPTION:This is a free\, custom tour offered by Rutgers-New Brunswick\, Edward J. Bloustein School of Planning and Public Policy and Rutgers-Newark\, Department of Arts\, Culture & Media to members of their communities and to members of the New Jersey Chapter of the American Planning Association-New Jersey Chapter. Spouses\, significant others\, children\, friends and other family members are also invited to attend. University faculty\, staff\, and alumni are all invited. No RSVP is necessary. \n2.0 AICP CM CREDITS. \nYou are invited to participate in an historic preservation and development walking tour through Newark\, NJ. Beginning at the apartments at 15 Washington Street on the Rutgers-Newark campus\, then Hahne & Co. and Express Newark\, winding through Military Park and more\, participants will see how many of the city’s landmarks have been repurposed for modern commercial\, educational\, and recreational use. \nTOUR PLAN AND LOGISTICS: Tour will start promptly at 11:30 a.m. Participants will meet in the lobby at 15 Washington Street. The tour will last 2 hours\, ending at approximately 1:30 p.m. The tour will examine how an older central city preserves and adaptively reuses its stock. \nParticipants must provide their own transportation. 15 Washington Street is less than a mile walk from the Newark New Jersey Transit Station. Or from Newark’s Penn Station\, take the Newark Light Rail to the Washington Park Station\, walk north on Broad Street\, then turn left onto Washington Street. \nThe tour is being led by Rutgers professors Anne Englot (Rutgers-Newark) and David Listokin (Bloustein School)\, as well as developers and planners working in Newark\, including Ben Donsky of Biederman Redevelopment Ventures Corp. \nAll participants will be required to sign a trip release waiver. Questions? Contact Anne Englot (anne.englot@rutgers.edu) or David Listokin (listokin@rutgers.edu).
URL:https://bloustein.rutgers.edu/event/historic-preservation-and-development-walking-tour-newark-nj/
LOCATION:Rutgers-Newark\, 15 Washington Street\, Newark\, NJ\, United States
CATEGORIES:Public,Social Gathering,Urban Planning
ATTACH;FMTTYPE=image/jpeg:https://bloustein.rutgers.edu/wp-content/uploads/2024/03/EJB-APA-Newark-Walking-Tour2024-header.jpg
END:VEVENT
END:VCALENDAR