BEGIN:VCALENDAR
VERSION:2.0
PRODID:-//Edward J. Bloustein School of Planning &amp; Public Policy - ECPv6.14.2//NONSGML v1.0//EN
CALSCALE:GREGORIAN
METHOD:PUBLISH
X-WR-CALNAME:Edward J. Bloustein School of Planning &amp; Public Policy
X-ORIGINAL-URL:https://bloustein.rutgers.edu
X-WR-CALDESC:Events for Edward J. Bloustein School of Planning &amp; Public Policy
REFRESH-INTERVAL;VALUE=DURATION:PT1H
X-Robots-Tag:noindex
X-PUBLISHED-TTL:PT1H
BEGIN:VTIMEZONE
TZID:America/New_York
BEGIN:DAYLIGHT
TZOFFSETFROM:-0500
TZOFFSETTO:-0400
TZNAME:EDT
DTSTART:20250309T070000
END:DAYLIGHT
BEGIN:STANDARD
TZOFFSETFROM:-0400
TZOFFSETTO:-0500
TZNAME:EST
DTSTART:20251102T060000
END:STANDARD
END:VTIMEZONE
BEGIN:VEVENT
DTSTART;TZID=America/New_York:20250327T163000
DTEND;TZID=America/New_York:20250327T180000
DTSTAMP:20260424T081717
CREATED:20250225T200601Z
LAST-MODIFIED:20250314T193834Z
UID:62252-1743093000-1743098400@bloustein.rutgers.edu
SUMMARY:Women's Leadership Meet & Greet
DESCRIPTION:In honor of Women’s History Month\, we are organizing a special career event aligned with this year’s national theme: “Moving Forward Together! Women Educating & Inspiring Generations.” \nWe (a group of fellow students representing the MCRP\, MPP\, MPI\, and MHA programs)\, in partnership with Bloustein’s Career Office\, are excited to host a networking and panel session designed to connect students with accomplished alumni and community leaders who have inspired others and made meaningful contributions in their fields. \nJoin change-makers\, Sabeen Masih\, Capital Impact Group https://www.linkedin.com/in/sabeen-masih-494b2456/; Alexandra Doll\, Robert Wood Johnson\, Somerset https://www.linkedin.com/in/alexandradoll/ and A’dorian Murray Thomas\, Founder and CEO of SHE Wins\, Inc. https://www.linkedin.com/in/adorianmt/ \nRSVP HERE
URL:https://bloustein.rutgers.edu/event/spring-2025-womens-leadership-meet-greet/
LOCATION:Bloustein School\, Civic Square Building\, 33 Livingston Avenue\, New Brunswick\, NJ\, 08901\, United States
CATEGORIES:Career Professional Development,Career Workshop Panel Roundtable,Social Gathering
ATTACH;FMTTYPE=image/webp:https://bloustein.rutgers.edu/wp-content/uploads/2024/04/careers-wrokshop-panel.webp
END:VEVENT
END:VCALENDAR