BEGIN:VCALENDAR
VERSION:2.0
PRODID:-//Edward J. Bloustein School of Planning &amp; Public Policy - ECPv6.14.2//NONSGML v1.0//EN
CALSCALE:GREGORIAN
METHOD:PUBLISH
X-WR-CALNAME:Edward J. Bloustein School of Planning &amp; Public Policy
X-ORIGINAL-URL:https://bloustein.rutgers.edu
X-WR-CALDESC:Events for Edward J. Bloustein School of Planning &amp; Public Policy
REFRESH-INTERVAL;VALUE=DURATION:PT1H
X-Robots-Tag:noindex
X-PUBLISHED-TTL:PT1H
BEGIN:VTIMEZONE
TZID:America/New_York
BEGIN:DAYLIGHT
TZOFFSETFROM:-0500
TZOFFSETTO:-0400
TZNAME:EDT
DTSTART:20240310T070000
END:DAYLIGHT
BEGIN:STANDARD
TZOFFSETFROM:-0400
TZOFFSETTO:-0500
TZNAME:EST
DTSTART:20241103T060000
END:STANDARD
END:VTIMEZONE
BEGIN:VEVENT
DTSTART;TZID=America/New_York:20240402T160000
DTEND;TZID=America/New_York:20240402T171500
DTSTAMP:20260421T042551
CREATED:20240213T142518Z
LAST-MODIFIED:20240213T142518Z
UID:56566-1712073600-1712078100@bloustein.rutgers.edu
SUMMARY:Bloustein Research Seminar Series: The place-based turn in U.S. federal policy (1990-2019): Implications for gentrification\, racial stratification\, & spatial inequality
DESCRIPTION:Presented by Emily Parker\, Assistant Professor\, Rutgers Bloustein School. \nThis venue will enable our faculty to share research\, build community\, and extend our networks. Pizza will be served. The goal is for the seminar to include a mix of Bloustein faculty\, occasional advanced PhD students\, and external speakers who will present research talks. The seminar series is open to the entire Bloustein community.
URL:https://bloustein.rutgers.edu/event/bloustein-research-seminar-series-the-place-based-turn-in-u-s-federal-policy-1990-2019-implications-for-gentrification-racial-stratification-spatial-inequality/
LOCATION:Bloustein School\, Civic Square Building\, 33 Livingston Avenue\, New Brunswick\, NJ\, 08901\, United States
CATEGORIES:Faculty Bloustein,Public,Staff Bloustein
ATTACH;FMTTYPE=image/jpeg:https://bloustein.rutgers.edu/wp-content/uploads/2024/02/2024-Spring-Research-Seminar.jpg
END:VEVENT
BEGIN:VEVENT
DTSTART;TZID=America/New_York:20240412T090000
DTEND;TZID=America/New_York:20240412T120000
DTSTAMP:20260421T042551
CREATED:20231220T224514Z
LAST-MODIFIED:20260219T154051Z
UID:55649-1712912400-1712923200@bloustein.rutgers.edu
SUMMARY:Bloustein Research Day 2024
DESCRIPTION:You are invited to our third annual Bloustein Research Day! It will be an in-person event. Anyone may register to attend. Faculty and staff may sign up to deliver lightning talks. Graduate and undergraduate students may sign up to present posters and potentially win a Best Poster Award. We strongly encourage participation by all members of the Bloustein community. Sign up today! \nRegistration: https://forms.office.com/r/RRag8YBJAc \nAgenda:  \nContinental Breakfast (8:00 – 9:00 am) \nFaculty/Staff Lightning Talks (9:00 – 10:15 am) \n\n\n\nJane Miller\nBeyond Statistical Significance: A Holistic View of What Makes a Quantitative Research Finding “Important”\n\n\nAndrea Hetling\nState welfare policies and racial equity: Assessing the impact of COVID-19 policies on caseloads?\n\n\nMuazzam Toshmatova\nUsing the New Jersey Statewide Data System to explore Dual Enrollment Outcomes\n\n\nJulia Sass Rubin\nThe Impact of New Jersey’s County Line Primary Ballots\n\n\nRuth Winecoff\nLongitudinal Spillovers in Public Benefits Enrollment: The Effect of the Medicaid Expansion on Future Medicare Insurance Choices\n\n\nJon Carnegie\nTransit use\, gender and sexual orientation: How identity influences how we travel\n\n\nHannah Younes\nAre e-scooters more dangerous than e-bikes and bicycles?\n\n\nYen-Tyng Chen\nRacial discrimination and mental health in the context of anti-Asian xenophobia: An intersecting approach of race\, ethnicity\, nativity\, and socioeconomic status.\n\n\nJanine Barr\n“And the survey says!”: A Case Study on Engaging Stakeholders to Inform Statewide Environmental Policy\n\n\nAndrea Restrepo-Mieth\nEnvironmental Conservation and the Politics of Infrastructure Scarcity in Galápagos\, Ecuador\n\n\nGarin Bulger\nA Case Study Analysis of Food Sovereignty as a Climate Adaptation Strategy across the Americas\n\n\nJeanne Herb\nResearch informing action:  Expanding access to nature for people with disabilities\n\n\nVanessa Tropiano\nBetter Buyouts: Collaborative Research to Inform NJDEP’s Blue Acres Program\n\n\nPritpal Bamhrah\nFlooding Impact on Municipal Finance in NJ – NJ Adapt based analysis\n\n\n\nStudent Poster Session (10:15 – 11:30 am) with Light Refreshments \nKeynote Address (11:30 am – 12 pm) Keynote Address by Dr. Joel Cantor \nFAQ: What’s a lightning talk? What a poster presentation? \nOrganizing Committee: Clint Andrews\, Liz Cooner\, Laura Geronimo\, Jeanne Herb\, David Listokin\, Will Payne \n 
URL:https://bloustein.rutgers.edu/event/bloustein-research-day/
LOCATION:Gov. James J. Florio Special Events Forum\, CSB\, 33 Livingston Avenue\, New Brunswick\, NJ\, 08901\, United States
CATEGORIES:Faculty Bloustein,Health Administration,Informatics,Public Health,Public Policy,Staff Bloustein,Symposium/Workshop,Urban Planning
ATTACH;FMTTYPE=image/jpeg:https://bloustein.rutgers.edu/wp-content/uploads/2023/12/2024-Bloustein-Research-Day.jpg
END:VEVENT
BEGIN:VEVENT
DTSTART;TZID=America/New_York:20240416T160000
DTEND;TZID=America/New_York:20240416T171500
DTSTAMP:20260421T042551
CREATED:20240213T142715Z
LAST-MODIFIED:20240213T142715Z
UID:56568-1713283200-1713287700@bloustein.rutgers.edu
SUMMARY:Bloustein Research Seminar Series: Soon Yeon Lim and Lauren Nolan
DESCRIPTION:From Flowers to High-Rises: How Planning Experts Shape Greenbelt Land Development\nand\n“Information not Provided by Applicant”: Missingness in Mortgage Lending Data and its Implications for Assessing Fair Lending Practices. \nThis venue will enable our faculty to share research\, build community\, and extend our networks. Pizza will be served. The goal is for the seminar to include a mix of Bloustein faculty\, occasional advanced PhD students\, and external speakers who will present research talks. The seminar series is open to the entire Bloustein community.
URL:https://bloustein.rutgers.edu/event/bloustein-research-seminar-series-soon-yeon-lim-and-lauren-nolan/
LOCATION:Bloustein School\, Civic Square Building\, 33 Livingston Avenue\, New Brunswick\, NJ\, 08901\, United States
CATEGORIES:Faculty Bloustein,Public,Staff Bloustein
ATTACH;FMTTYPE=image/jpeg:https://bloustein.rutgers.edu/wp-content/uploads/2024/02/2024-Spring-Research-Seminar.jpg
END:VEVENT
BEGIN:VEVENT
DTSTART;TZID=America/New_York:20240430T160000
DTEND;TZID=America/New_York:20240430T171500
DTSTAMP:20260421T042551
CREATED:20240213T142858Z
LAST-MODIFIED:20240213T142858Z
UID:56570-1714492800-1714497300@bloustein.rutgers.edu
SUMMARY:Bloustein Research Seminar Series: Community benefits: Developers\, negotiations\, and accountability
DESCRIPTION:Presented by Jovanna Rosen\, Assistant Professor of Public Policy\, Rutgers-University Camden. \nThis venue will enable our faculty to share research\, build community\, and extend our networks. Pizza will be served. The goal is for the seminar to include a mix of Bloustein faculty\, occasional advanced PhD students\, and external speakers who will present research talks. The seminar series is open to the entire Bloustein community.
URL:https://bloustein.rutgers.edu/event/bloustein-research-seminar-series-community-benefits-developers-negotiations-and-accountability/
LOCATION:Bloustein School\, Civic Square Building\, 33 Livingston Avenue\, New Brunswick\, NJ\, 08901\, United States
CATEGORIES:Faculty Bloustein,Public,Staff Bloustein
ATTACH;FMTTYPE=image/jpeg:https://bloustein.rutgers.edu/wp-content/uploads/2024/02/2024-Spring-Research-Seminar.jpg
END:VEVENT
END:VCALENDAR