BEGIN:VCALENDAR
VERSION:2.0
PRODID:-//Edward J. Bloustein School of Planning &amp; Public Policy - ECPv6.14.2//NONSGML v1.0//EN
CALSCALE:GREGORIAN
METHOD:PUBLISH
X-WR-CALNAME:Edward J. Bloustein School of Planning &amp; Public Policy
X-ORIGINAL-URL:https://bloustein.rutgers.edu
X-WR-CALDESC:Events for Edward J. Bloustein School of Planning &amp; Public Policy
REFRESH-INTERVAL;VALUE=DURATION:PT1H
X-Robots-Tag:noindex
X-PUBLISHED-TTL:PT1H
BEGIN:VTIMEZONE
TZID:America/New_York
BEGIN:DAYLIGHT
TZOFFSETFROM:-0500
TZOFFSETTO:-0400
TZNAME:EDT
DTSTART:20240310T070000
END:DAYLIGHT
BEGIN:STANDARD
TZOFFSETFROM:-0400
TZOFFSETTO:-0500
TZNAME:EST
DTSTART:20241103T060000
END:STANDARD
END:VTIMEZONE
BEGIN:VEVENT
DTSTART;TZID=America/New_York:20241108T173000
DTEND;TZID=America/New_York:20241108T193000
DTSTAMP:20260423T184724
CREATED:20241016T151450Z
LAST-MODIFIED:20251028T180652Z
UID:60519-1731087000-1731094200@bloustein.rutgers.edu
SUMMARY:Careers in Housing & Community Development Alumni Networking Event
DESCRIPTION:Are you interested in working in the housing and community development field? \nAre you already IN the field and want to add to your connections? \nBloustein School students and alumni are invited to join us for an evening of learning and networking with industry professionals and fellow alumnus Rafay Kazmi MPP/MCRP ’19 at Enterprise Community Partners. \nSpace is limited\, RSVP is required.
URL:https://bloustein.rutgers.edu/event/careers-housing-community-development-alumni-networking/
LOCATION:Bloustein School\, Civic Square Building\, 33 Livingston Avenue\, New Brunswick\, NJ\, 08901\, United States
CATEGORIES:Alumni,Career Information Session,CAREERS,Public Policy,Social Gathering,Student Services,Urban Planning
ATTACH;FMTTYPE=image/jpeg:https://bloustein.rutgers.edu/wp-content/uploads/2024/10/11082024-housing-comm-development-networking-alumni.jpg
END:VEVENT
BEGIN:VEVENT
DTSTART;TZID=America/New_York:20240926T090000
DTEND;TZID=America/New_York:20240926T100000
DTSTAMP:20260423T184724
CREATED:20240822T185656Z
LAST-MODIFIED:20240822T190154Z
UID:59599-1727341200-1727344800@bloustein.rutgers.edu
SUMMARY:Virtual Information Session: Graduate Program in Public Policy
DESCRIPTION:You are cordially invited to join us at this virtual informational session for Rutgers Bloustein School’s Master of Public Policy (MPP)\, Master of Public Affairs and Politics (MPAP)\, and Graduate Certificate in Public Policy. Learn more about the curriculum for our master’s degrees in public policy\, as well as our graduate certificate\, how to apply\, career services support for students\, and scholarship opportunities. \nThe GRE is WAIVED for all 2025 applications. The application deadline for spring 2025 admission is November 1st. The application deadline for fall 2025 admission with academic scholarship consideration is January 15th.\nAll sessions will be held virtually via Zoom. \nRSVP required at https://go.rutgers.edu/ejbppinfo
URL:https://bloustein.rutgers.edu/event/virtual-information-session-graduate-program-in-public-policy-f24/
LOCATION:Virtual
CATEGORIES:Graduate Information Session,Student Services
ATTACH;FMTTYPE=image/jpeg:https://bloustein.rutgers.edu/wp-content/uploads/2023/11/virtual-info-MPP.jpg
END:VEVENT
BEGIN:VEVENT
DTSTART;TZID=America/New_York:20241023T180000
DTEND;TZID=America/New_York:20241023T190000
DTSTAMP:20260423T184724
CREATED:20240822T190724Z
LAST-MODIFIED:20240822T190724Z
UID:59603-1729706400-1729710000@bloustein.rutgers.edu
SUMMARY:Virtual Information Session: Master of Health Administration
DESCRIPTION:You are cordially invited to join us at this virtual informational session for the Rutgers – Bloustein School’s Master of Health Administration (MHA) program during the Fall 2024 semester. We are excited to share helpful information about the Bloustein School\, the residential Master of Health Administration program (MHA)\, and answer any questions you may have regarding admissions\, applications\, career opportunities in the field and the curriculum. Program faculty and staff will be on hand to answer all your questions. \n\nApplications to the RMHA program do NOT require the GREs. Work experience is not required of applicants.  The application deadline for fall / September 2025 admission is July 1st. The application for spring 2025 / January 2025 admission is November 1st.\n \nAll sessions will be held virtually via Zoom. \n\nRSVP required at https://go.rutgers.edu/ejbmhainfo 
URL:https://bloustein.rutgers.edu/event/virtual-information-session-master-of-health-administration/
LOCATION:Virtual
CATEGORIES:Graduate Information Session,Student Services
ATTACH;FMTTYPE=image/png:https://bloustein.rutgers.edu/wp-content/uploads/2024/02/virtual-info-MHA.png
END:VEVENT
BEGIN:VEVENT
DTSTART;TZID=America/New_York:20240917T090000
DTEND;TZID=America/New_York:20240917T100000
DTSTAMP:20260423T184724
CREATED:20240822T191352Z
LAST-MODIFIED:20240822T191352Z
UID:59606-1726563600-1726567200@bloustein.rutgers.edu
SUMMARY:Virtual Information Session: Graduate Program in Public Informatics
DESCRIPTION:You are cordially invited to join us at this virtual informational session for the – Bloustein School’s fall 2024 virtual information sessions for our Master of Public Informatics (MPI) degree and our Graduate Certificate in Urban and Public Informatics. Learn more the curriculum for our master’s degree and  graduate certificate\, how to apply\, career services support for students and scholarship opportunities. \nThe GRE is WAIVED for all 2025 applications. Work experience is not required for applications to the program. The application deadline for spring 2025 admission is November 1st. The application deadline for fall 2025 admission with academic scholarship consideration is January 15th.  The MPI is a STEM-designated master’s program.\nAll sessions will be held virtually via Zoom. \nRSVP required at https://go.rutgers.edu/ejbmpiinfo
URL:https://bloustein.rutgers.edu/event/virtual-information-session-graduate-program-in-public-informatics-f24/
LOCATION:Virtual
CATEGORIES:Graduate Information Session,Student Services
ATTACH;FMTTYPE=image/jpeg:https://bloustein.rutgers.edu/wp-content/uploads/2023/11/virtual-info-MPI.jpg
END:VEVENT
BEGIN:VEVENT
DTSTART;VALUE=DATE:20241118
DTEND;VALUE=DATE:20241221
DTSTAMP:20260423T184724
CREATED:20241118T170711Z
LAST-MODIFIED:20241203T190211Z
UID:61063-1731888000-1734739199@bloustein.rutgers.edu
SUMMARY:Bloustein DEIB Committee Holiday Toy Drive
DESCRIPTION:The Bloustein School Diversity\, Equity\, Inclusion and Belonging Committee invites you to participate in a Holiday Toy Drive benefitting the Harmony Family Success Center. \nDonate new\, unwrapped toys for kids aged 0-12. In addition to toys\, we are collecting wrapping paper\, ribbons\, and tape to help wrap the gifts for distribution. \nDROP OFF LOCATION: Boxes will be placed inside the Civic Square Building\, 33 Livingston Avenue\, New Brunswick with the flyer attached. \nDONATION PERIOD: Beginning Monday\, Nov. 18 through Friday\, Dec. 20 \nQuestions? Contact Bloustein School DEIB Graduate Fellow Siclali Flores at diversity@ejb.rutgers.edu.
URL:https://bloustein.rutgers.edu/event/bloustein-deib-committee-holiday-toy-drive/
LOCATION:Bloustein School\, Civic Square Building\, 33 Livingston Avenue\, New Brunswick\, NJ\, 08901\, United States
CATEGORIES:Diversity,Public,Social Gathering,Student Organization,Student Services
ATTACH;FMTTYPE=image/png:https://bloustein.rutgers.edu/wp-content/uploads/2024/11/DEIB-Holiday-Toy-Drive-2024-1920-x-1080-px.png
END:VEVENT
BEGIN:VEVENT
DTSTART;TZID=America/New_York:20241119T161500
DTEND;TZID=America/New_York:20241119T171500
DTSTAMP:20260423T184724
CREATED:20241007T144342Z
LAST-MODIFIED:20241009T151753Z
UID:60395-1732032900-1732036500@bloustein.rutgers.edu
SUMMARY:Bloustein School Dean's Listening Session for Graduate Students
DESCRIPTION:All master’s candidate students are invited to attend this discussion with Dean Stuart Shapiro. \nRSVP HERE\n \nSponsored by: The Office of Student and Academic Services and Bloustein Graduate Student Association  
URL:https://bloustein.rutgers.edu/event/bloustein-school-deans-listening-session-for-graduate-students-2/
LOCATION:Bloustein School\, Civic Square Building\, 33 Livingston Avenue\, New Brunswick\, NJ\, 08901\, United States
CATEGORIES:Student Services
ATTACH;FMTTYPE=image/jpeg:https://bloustein.rutgers.edu/wp-content/uploads/2023/11/deans-listening-session.jpg
END:VEVENT
END:VCALENDAR