BEGIN:VCALENDAR
VERSION:2.0
PRODID:-//Edward J. Bloustein School of Planning &amp; Public Policy - ECPv6.14.2//NONSGML v1.0//EN
CALSCALE:GREGORIAN
METHOD:PUBLISH
X-ORIGINAL-URL:https://bloustein.rutgers.edu
X-WR-CALDESC:Events for Edward J. Bloustein School of Planning &amp; Public Policy
REFRESH-INTERVAL;VALUE=DURATION:PT1H
X-Robots-Tag:noindex
X-PUBLISHED-TTL:PT1H
BEGIN:VTIMEZONE
TZID:America/New_York
BEGIN:DAYLIGHT
TZOFFSETFROM:-0500
TZOFFSETTO:-0400
TZNAME:EDT
DTSTART:20210314T070000
END:DAYLIGHT
BEGIN:STANDARD
TZOFFSETFROM:-0400
TZOFFSETTO:-0500
TZNAME:EST
DTSTART:20211107T060000
END:STANDARD
END:VTIMEZONE
BEGIN:VEVENT
DTSTART;TZID=America/New_York:20211112T120000
DTEND;TZID=America/New_York:20211112T133000
DTSTAMP:20260424T180208
CREATED:20210912T204558Z
LAST-MODIFIED:20231107T214753Z
UID:53608-1636718400-1636723800@bloustein.rutgers.edu
SUMMARY:Intelligent Informatics at Rutgers: Public Informatics for a Better Future: Textual Analytics with R and Social Media Data
DESCRIPTION:In this virtual workshop\, Dr. Jim Samuel\, Executive Director of the Bloustein School’s Master of Public Informatics\, provides an interactive introduction to textual analytics and natural language processing. The session includes a presentation and an approximate 30-minute interactive work-along demonstration for textual analytics using R-Studio. Participants will learn to generate insights from social media data related to current events or issues of public importance.
URL:https://bloustein.rutgers.edu/event/intelligent-informatics-texual-analytics-r-social-media-data/
LOCATION:Virtual
CATEGORIES:Informatics,Public,Virtual
END:VEVENT
END:VCALENDAR