BEGIN:VCALENDAR
VERSION:2.0
PRODID:-//Edward J. Bloustein School of Planning &amp; Public Policy - ECPv6.14.2//NONSGML v1.0//EN
CALSCALE:GREGORIAN
METHOD:PUBLISH
X-WR-CALNAME:Edward J. Bloustein School of Planning &amp; Public Policy
X-ORIGINAL-URL:https://bloustein.rutgers.edu
X-WR-CALDESC:Events for Edward J. Bloustein School of Planning &amp; Public Policy
REFRESH-INTERVAL;VALUE=DURATION:PT1H
X-Robots-Tag:noindex
X-PUBLISHED-TTL:PT1H
BEGIN:VTIMEZONE
TZID:America/New_York
BEGIN:DAYLIGHT
TZOFFSETFROM:-0500
TZOFFSETTO:-0400
TZNAME:EDT
DTSTART:20260308T070000
END:DAYLIGHT
BEGIN:STANDARD
TZOFFSETFROM:-0400
TZOFFSETTO:-0500
TZNAME:EST
DTSTART:20261101T060000
END:STANDARD
END:VTIMEZONE
BEGIN:VEVENT
DTSTART;TZID=America/New_York:20260425T100000
DTEND;TZID=America/New_York:20260425T160000
DTSTAMP:20260425T143227
CREATED:20260408T182111Z
LAST-MODIFIED:20260408T182111Z
UID:73910-1777111200-1777132800@bloustein.rutgers.edu
SUMMARY:Rutgers Day
DESCRIPTION:Rutgers Day is set for Saturday\, April 25\, 2026\, 10 a.m. – 4 p.m. (rain or shine) on the Busch Campus in Piscataway and the College Avenue and Cook/Douglass campuses in New Brunswick. Join us for this ultimate celebration of everything Rutgers\, featuring hundreds of programs\, exhibits\, hands-on activities\, live entertainment\, and more. \nThe Bloustein School will be on the Voorhees Mall. Come visit us and get some fun R Bloustein swag!
URL:https://bloustein.rutgers.edu/event/rutgers-day-2/
LOCATION:Voorhees Mall\, College Avenue Campus\, 16 Seminary Place\, New Brunswick\, United States
ATTACH;FMTTYPE=image/jpeg:https://bloustein.rutgers.edu/wp-content/uploads/2026/04/4-25-Rutgers-Day-2026.jpg
END:VEVENT
BEGIN:VEVENT
DTSTART;TZID=America/New_York:20260427T110000
DTEND;TZID=America/New_York:20260427T130000
DTSTAMP:20260425T143227
CREATED:20260122T144816Z
LAST-MODIFIED:20260122T144816Z
UID:72148-1777287600-1777294800@bloustein.rutgers.edu
SUMMARY:Virtual Career Drop-ins for Graduate Students
DESCRIPTION:Bloustein graduate students can meet with Career Development Specialists Andrea Garrido or Cheryl Egan for up to 15 minutes to answer any career/internship related questions \nURL: https://go.rutgers.edu/EJBcareerdropin
URL:https://bloustein.rutgers.edu/event/virtual-career-drop-ins-for-graduate-students-28/
LOCATION:Virtual
CATEGORIES:Career Information Session,CAREERS,Virtual
ATTACH;FMTTYPE=image/webp:https://bloustein.rutgers.edu/wp-content/uploads/2024/04/virtual-career-drop-ins.webp
END:VEVENT
BEGIN:VEVENT
DTSTART;TZID=America/New_York:20260427T150000
DTEND;TZID=America/New_York:20260427T170000
DTSTAMP:20260425T143227
CREATED:20260410T165502Z
LAST-MODIFIED:20260410T165701Z
UID:73937-1777302000-1777309200@bloustein.rutgers.edu
SUMMARY:Bloustein Studio Day 2026
DESCRIPTION:We invite you to join us for Bloustein Studio Day\, an opportunity to engage with and reflect on planning practice as Bloustein students present real-world work they have been developing all semester in partnership with government agencies\, nonprofits\, and community organizations across New Jersey. \nThis year’s seven studio presentations span some of today’s most pressing planning challenges from Complete Streets and active transportation in Linwood\, to affordable housing and public health\, to climate resilience and municipal land use planning. Our graduate students have worked with clients including Hudson County’s Division of Planning\, the NJ Bike and Walk Coalition\, the NJ Hospital Association\, and the Montclair Center BID\, among others. \nThe event will also feature an expert panel of distinguished planning practitioners and Bloustein alumni including Christiana Foglio\, DC’84\, MCRP ’86 (Community Investment Strategies)\, Eric Enderlin\, MCRP ’98 (NYC Housing Development Corporation)\, Leigh Ann Von Hagen ’93 (Alan M. Voorhees Transportation Center)\, and Pallavi Shinde MCRP ’12 (Director of Planning and Zoning\, City of Newark). \nSee the full agenda\, panelist bios\, and descriptions about each studio here. \nBloustein Studio Day offers an inspiring look at the next generation of planners putting their skills to work. Please see the attached flyer with agenda\, descriptions of each studio\, and more information about the panelists. We hope to see you there! \nRSVP HERE
URL:https://bloustein.rutgers.edu/event/bloustein-studio-day-2026/
LOCATION:Gov. James J. Florio Special Events Forum\, CSB\, 33 Livingston Avenue\, New Brunswick\, NJ\, 08901\, United States
CATEGORIES:Informatics,Public Health,Public Policy,Seminar,Social Gathering,Student Organization,Urban Planning
ATTACH;FMTTYPE=image/webp:https://bloustein.rutgers.edu/wp-content/uploads/2026/04/bloustein-studio-day-calendar.webp
END:VEVENT
BEGIN:VEVENT
DTSTART;TZID=America/New_York:20260428T180000
DTEND;TZID=America/New_York:20260428T190000
DTSTAMP:20260425T143227
CREATED:20251223T175832Z
LAST-MODIFIED:20251223T175832Z
UID:71438-1777399200-1777402800@bloustein.rutgers.edu
SUMMARY:Virtual Information Session: Master of City and Regional Planning
DESCRIPTION:You are cordially invited to join us at this virtual informational session for the Rutgers – Bloustein School’s Master of City and Regional Planning (MCRP) program during the Spring 2026 semester. We are excited to share helpful information about the Bloustein School\, the MCRP program\, and answer any questions you may have regarding admissions\, applications\, career opportunities in the field and the curriculum. Program faculty and staff will be on hand to answer all your questions. Each session will last approximately 1 hour. \n\nSee the application page for more information on deadlines and requirements. \nAll sessions will be held virtually via Zoom. \n\n\nRSVP required at: https://rutgers.zoom.us/webinar/register/WN_Vge_3DAyRyivBYv1038RPQ
URL:https://bloustein.rutgers.edu/event/virtual-information-session-master-of-city-and-regional-planning-7/
LOCATION:Virtual
CATEGORIES:Graduate Information Session,Student Services
ATTACH;FMTTYPE=image/jpeg:https://bloustein.rutgers.edu/wp-content/uploads/2023/08/virtual-info-MCRP.jpg
END:VEVENT
BEGIN:VEVENT
DTSTART;TZID=America/New_York:20260429T120000
DTEND;TZID=America/New_York:20260429T125000
DTSTAMP:20260425T143227
CREATED:20260224T174738Z
LAST-MODIFIED:20260224T174738Z
UID:73211-1777464000-1777467000@bloustein.rutgers.edu
SUMMARY:PhD Colloquium: Listening Session
DESCRIPTION:Bring your questions and concerns to discuss. \nPlease check your email for the Zoom link. All Colloquia are in person in Room 490 and on Zoom.
URL:https://bloustein.rutgers.edu/event/phd-colloquium-listening-session-2/
LOCATION:Bloustein School CSB\, Room 490\, 33 Livingston Avenue\, New Brunswick\, NJ\, 08901\, United States
CATEGORIES:Ph.D. Colloquium,Virtual
ATTACH;FMTTYPE=image/jpeg:https://bloustein.rutgers.edu/wp-content/uploads/2023/09/phd-colloquium.jpg
END:VEVENT
END:VCALENDAR